BEGIN:VCALENDAR
VERSION:2.0
PRODID:-//ИСАА МГУ | Институт стран Азии и Африки Московского государственного университета имени М.В. Ломоносова - ECPv6.15.12.2//NONSGML v1.0//EN
CALSCALE:GREGORIAN
METHOD:PUBLISH
X-WR-CALNAME:ИСАА МГУ | Институт стран Азии и Африки Московского государственного университета имени М.В. Ломоносова
X-ORIGINAL-URL:https://iaas.msu.ru
X-WR-CALDESC:Мероприятия для ИСАА МГУ | Институт стран Азии и Африки Московского государственного университета имени М.В. Ломоносова
REFRESH-INTERVAL;VALUE=DURATION:PT1H
X-Robots-Tag:noindex
X-PUBLISHED-TTL:PT1H
BEGIN:VTIMEZONE
TZID:Europe/Moscow
BEGIN:STANDARD
TZOFFSETFROM:+0300
TZOFFSETTO:+0300
TZNAME:MSK
DTSTART:20250101T000000
END:STANDARD
END:VTIMEZONE
BEGIN:VEVENT
DTSTART;TZID=Europe/Moscow:20260423T130000
DTEND;TZID=Europe/Moscow:20260423T170000
DTSTAMP:20260420T202946
CREATED:20260408T085113Z
LAST-MODIFIED:20260408T085113Z
UID:19424-1776949200-1776963600@iaas.msu.ru
SUMMARY:Презентация монографии и научный семинар «Источниковедение и историография Кореи: современные исследования»
DESCRIPTION:В издательстве «Наука» опубликована коллективная монография «Источниковедение и историография Кореи: современные исследования» (отв. ред. Н.Н. Ким\, директор Международного центра корееведения ИСАА МГУ). В проекте участвовали преподаватели и научные сотрудники МГУ\, ИКСА\, СПбГУ\, НИУ ВШЭ. Книга поднимает вопросы изучения корейских памятников средневековья и Нового времени\, а также освещает актуальные проблемы корейской историографии. \n23 апреля в 13.00–17.00 в Институте стран Азии и Африки МГУ (ул. Моховая\, д. 11) состоится презентация монографии и научный семинар «Источниковедение и историография Кореи: современные исследования» с участием авторов книги. \nМероприятие пройдет в смешанном формате (очно и онлайн).\n>  Регистрация \nПрограмма выступлений: \n\nН.Н. Ким: Презентация коллективной монографии «Источниковедение и историография Кореи: современные исследования».\nА.В. Соловьев: Новое прочтение «Самгук саги»: «Нечто большее\, чем “конфуцианско- рационалистическая” история».\nО.С. Пироженко: Великое уложение по управлению государством (Кёнгук Тэджон) как источник по истории Кореи.\nН.А. Чеснокова: Источники по средневековой корейской географии в архивах Республики Корея.\nА.А. Гурьева: Поэтические и песенные сборники как источник информации о жизни корейского общества XVIII–XIX веков.\nД.Е. Гришина: Корейские письменные свидетельства о Российской империи конца XIX века: в фокусе делегаций 1896 и 1897 годов.\nВ.С. Акуленко: Трансформация этнокультурных\, социально-экономических\, хронологических и территориальных представлений о Древнем Чосоне в историографии КНДР.\nА.С. Старшинов: Диктатура\, массы и повседневность: южнокорейская рецепция Alltagsgeschichte и исследования повседневной жизни периода правления Пак Чонхи (1961–1979).
URL:https://iaas.msu.ru/event/prezentacziya-monografii-i-nauchnyj-seminar-istochnikovedenie-i-istoriografiya-korei-sovremennye-issledovaniya/
LOCATION:ИСАА МГУ\, Моховая 11 стр. 1\, Москва\, Российская Федерация
CATEGORIES:Конференции
ATTACH;FMTTYPE=image/jpeg:https://iaas.msu.ru/wp-content/uploads/2026/04/event-20260423.jpg
END:VEVENT
BEGIN:VEVENT
DTSTART;TZID=Europe/Moscow:20260423T180000
DTEND;TZID=Europe/Moscow:20260423T210000
DTSTAMP:20260420T202946
CREATED:20260420T102632Z
LAST-MODIFIED:20260420T102712Z
UID:19499-1776967200-1776978000@iaas.msu.ru
SUMMARY:От Малайзии до Океании: общество "Нусантара" при ИСАА МГУ приглашает на научный семинар
DESCRIPTION:Общество «Нусантара» при ИСАА МГУ приглашает коллег\, интересующихся островной Юго-Восточной Азией и Океанией\, принять участие в заседании регулярного научного семинара\, которое состоится 23 апреля\, в четверг\, в 18-00\, в Центре восточной литературы РГБ.  \nНа семинаре ведущий отечественный филолог-малаист к.ф.н. Евгения Кукушкина\, ныне зав. Отделом литератур стран Азии и Африки ИМЛИ РАН\, выступит на тему «История в малайской литературы середины ХХ в.: жанры и источники сюжетов». \n\n«Если в традиционной малайской словесности исторические жанры (прежде всего\, историография) занимали важное место в литературной системе\, то современная литература начала осваивать изображение истории уже после Второй мировой войны. В довоенную эпоху основным носителем таких сюжетов был переходный городской театр\, на сцене которого присутствовали обработки эпизодов средневековых хроник\, легенд и полуисторических преданий. Накануне эпохи независимости и на фоне подъема националистических настроений произошел резкий подъем интереса к национальной истории\, отразившийся и в литературе. Авторы стали привлекать новые источники сюжетов\, а в случае использования традиционных сюжетов дополняли их вымышленными линиями и эпизодами. Параллельно началось переосмысление центрального конфликта\, на котором строился сюжет традиционной историографии\,» – отмечает в аннотации к докладу Е.С. Кукушкина. \nВторым докладчиком станет студентка 4 курса ИСАА МГУ Полина Куколева с темой » Миграция как фактор трансформации папуасской культуры «. Будет показано\, как массовая миграция индонезийцев на Западную Новую Гвинею\, начавшаяся во второй половине XX века\, изменила демографическую структуру региона и культурный ландшафт коренного населения. В докладе будут рассмотрены аспекты папуасской культуры\, которые претерпели изменения. \n«Под влиянием стигматизации происходит переосмысление традиций\, особенно среди молодого поколения. Рост доли мусульманского населения ведёт к трансформации религиозной сферы и влияет на проведение традиционных обрядов. Распространение индонезийского языка в многоэтничной среде сопровождается снижением употребимости региональных языков и постепенным их исчезновением. В совокупности эти процессы ведут к тому\, что папуасская культура неизбежно трансформируется\, вызывая тревогу у коренного населения за сохранение идентичности\,» – отмечает автор в аннотации к докладу. \nОбщество «Нусантара» ожидает коллег и студентов\, специализирующихся по ЮВА\, на семинаре\, в ЦВЛ РГБ по адресу ул. Моховая\, 6-8 (м. Боровицкая\, Арбатская\, Библиотека Ленина). \nВажно: для прохода в ЦВЛ необходимо до 21 апреля зарегистрироваться по ссылке: https://forms.gle/V5dJZ6QTTQfSiABE7\nПри себе иметь паспорт.
URL:https://iaas.msu.ru/event/ot-malajzii-do-okeanii-obshhestvo-nusantara-pri-isaa-mgu-priglashaet-na-nauchnyj-seminar/
LOCATION:Центр восточной литературы Российской государственной библиотеки\, ул. Моховая\, д. 6/8 (метро Библиотека им. Ленина)
CATEGORIES:Открытые лекции
ATTACH;FMTTYPE=image/jpeg:https://iaas.msu.ru/wp-content/uploads/2026/04/event-20260423-1.jpg
END:VEVENT
BEGIN:VEVENT
DTSTART;TZID=Europe/Moscow:20260515T160000
DTEND;TZID=Europe/Moscow:20260515T190000
DTSTAMP:20260420T202946
CREATED:20260416T124747Z
LAST-MODIFIED:20260416T124810Z
UID:19479-1778860800-1778871600@iaas.msu.ru
SUMMARY:Курдоведческие чтения 2026
DESCRIPTION:В рамках празднования научной деятельности ИСАА МГУ им. М. В. Ломоносова и 70-летия ИСАА МГУ кафедра стран Центральной Азии и Кавказа проводит конференцию с международным участием «Курдоведческие чтения»\n\nОсновная задача конференции – представление актуальных исследований культуры и политики курдов с фокусом на вопросы языка\, истории\, политологии и религиоведения. На конференции исследователи обсудят основные направления научных изысканий в области курдологии.\n\n📍 ИСАА МГУ (Москва\, ул. Моховая\, 11с1)\n🗓 15 мая\n🕛 16.00 – 19.00\nФормат: офлайн и онлайн\n\nПо вопросам участия обращаться: amirimt@my.msu.ru\nМайя Амири
URL:https://iaas.msu.ru/event/kurdovedcheskie-chteniya-2026/
LOCATION:ИСАА МГУ\, Моховая 11 стр. 1\, Москва\, Российская Федерация
CATEGORIES:Конференции
ATTACH;FMTTYPE=image/jpeg:https://iaas.msu.ru/wp-content/uploads/2026/04/event-20260515.jpg
END:VEVENT
END:VCALENDAR